{"text_format":"1","workbook":"xlsx","n_sheets":1,"sheets":["QUOTATION"],"not_rendered":{"charts":0,"images":5,"macros":1,"external_links":1,"defined_names":5,"comments":0,"pivot_tables":0},"unopened":[],"bounds":{"document_bytes":16777216,"sheet_cells":100000,"rows_first":2000,"rows_last":500,"rows_between":2000,"halvings":0,"cell_chars":16384,"cell_head_chars":4096},"cells_cut":0,"cells_raw":0,"read":"whole","date_system":"1900"}

{"sheet":"QUOTATION","index":0,"n_rows":59,"n_cols":8,"rows_kept":59,"cut":false,"hidden":false,"merged":[[55,2,55,3],[58,2,59,3],[58,7,59,7],[46,2,46,3],[47,2,47,3],[48,2,48,5],[52,2,52,3],[53,2,53,3],[54,2,54,3],[40,2,40,3],[41,2,41,3],[42,2,42,3],[43,2,43,3],[44,2,44,3],[45,2,45,3],[34,2,34,3],[35,2,35,3],[36,2,36,3],[37,2,37,3],[38,2,38,3],[39,2,39,3],[28,2,28,3],[29,2,29,3],[30,2,30,3],[31,2,31,3],[32,2,32,3],[33,2,33,3],[22,2,22,3],[23,2,23,3],[24,2,24,3],[25,2,25,3],[26,2,26,3],[27,2,27,3],[16,2,16,3],[17,2,17,3],[18,2,18,3],[19,2,19,3],[20,2,20,3],[21,2,21,3],[1,1,1,7],[4,4,4,6],[5,4,5,6],[7,2,8,4],[7,7,8,7],[9,6,9,7]]}
[null,"QUOTATION REQUEST | TEKLİF TALEBİ - AL AMEEN FOR HUMANITARIAN SUPPORT "]
[null,"طلب عرض سعر"]
[]
[]
[null,null,"PR date | SAT tarihi:",null,{"$f":"CONCATENATE('[1]PR FORM'!H8,\"-\",'[1]PR FORM'!I8,\"-\",'[1]PR FORM'!J8)","v":"15-8-2024"},null,null,"تاريخ طلب الشراء:"]
[null,null,"\nReference of the PR | SAT'nin referansı:",null,{"$f":"'[1]PR FORM'!D$11","v":"PR/KS-relief 047/KS-RELIEF1.06/GZT/PRO-HE/15-8-2024/C"},null,null,"الرقم المرجعي لطلب الشراء:"]
[]
[null,null,"Quotation valid* from ....../......./........... until ....../......./...........\nTeklif geçerli*  tarihinden ....../......./........... tarihine kadar ....../....../…….... ",null,null,null,null,"صلاحية عرض السعر* من ....../......./........... إلى ....../......./..........."]
[]
[null,null,"*Please note that quotation cannot be valid for less than 3 days or more than 30 days.  | Teklifin 3 günden az veya 30 günden fazla geçerli olamayacağını lütfen unutmayın.",null,null,null," ملاحظة : عرض السعر يكون غير صالح لمدة أقل من ثلاثة أيام أو أكثر من 30 يوم."]
[null,null,"Company | Şirket:",null,null,null,null,"الشركة/المؤسسة:"]
[null,null,"Representative | Temsilci:",null,null,null,null,"اسم الشخص المسؤول:"]
[null,null,"Tel:",null,null,null,null,"الهاتف:"]
[null,null,"Email | E-posta:",null,null,null,null,"البريد الالكتروني:"]
[null,null,"Address | Adres:",null,null,null,null,"العنوان:"]
[]
[null,null,"Items |\nالعناصر",null,"Unit | Birim\nالواحدة","Quantity | Miktar\nالكمية",{"$f":"\"Unit Price in \"&CurrnecyT&\" includes taxes and delivery\"&\" | Birim Fiyata vergiler ve teslimat dahildir\"&\"\n| السعر الإفرادي متضمناً الضريبة \"","v":"Unit Price in USD includes taxes and delivery | Birim Fiyata vergiler ve teslimat dahildir\n| السعر الإفرادي متضمناً الضريبة "},{"$f":"\"Total Price in \"&CurrnecyT&\" includes taxes and delivery \"&\" | Toplam Fiyata vergiler ve teslimat dahildir\"&\n\"| السعر الإجمالي متضمناً الضريبة والتوصيل\"","v":"Total Price in USD includes taxes and delivery  | Toplam Fiyata vergiler ve teslimat dahildir| السعر الإجمالي متضمناً الضريبة والتوصيل"}]
[null,1,{"$f":"'[1]PR FORM'!B16","v":"خبز"},null,{"$f":"'[1]PR FORM'!C16","v":"ربطة"},{"$f":"'[1]PR FORM'!D16*'[1]PR FORM'!E16","v":7920}]
[null,2,{"$f":"'[1]PR FORM'!B17","v":"جرة غاز"},null,{"$f":"'[1]PR FORM'!C17","v":"جرة"},{"$f":"'[1]PR FORM'!D17*'[1]PR FORM'!E17","v":96}]
[null,3,{"$f":"'[1]PR FORM'!B18","v":"زيت زيتون"},null,{"$f":"'[1]PR FORM'!C18","v":"تنكة"},{"$f":"'[1]PR FORM'!D18*'[1]PR FORM'!E18","v":24}]
[null,4,{"$f":"'[1]PR FORM'!B19","v":"زيتون"},null,{"$f":"'[1]PR FORM'!C19","v":"كغ"},{"$f":"'[1]PR FORM'!D19*'[1]PR FORM'!E19","v":1200}]
[null,5,{"$f":"'[1]PR FORM'!B20","v":"زعتر"},null,{"$f":"'[1]PR FORM'!C20","v":"كغ"},{"$f":"'[1]PR FORM'!D20*'[1]PR FORM'!E20","v":240}]
[null,6,{"$f":"'[1]PR FORM'!B21","v":"سكر"},null,{"$f":"'[1]PR FORM'!C21","v":"كغ"},{"$f":"'[1]PR FORM'!D21*'[1]PR FORM'!E21","v":1200}]
[null,7,{"$f":"'[1]PR FORM'!B22","v":"شاي"},null,{"$f":"'[1]PR FORM'!C22","v":"كغ"},{"$f":"'[1]PR FORM'!D22*'[1]PR FORM'!E22","v":120}]
[null,8,{"$f":"'[1]PR FORM'!B23","v":"بيض"},null,{"$f":"'[1]PR FORM'!C23","v":"صحن"},{"$f":"'[1]PR FORM'!D23*'[1]PR FORM'!E23","v":840}]
[null,9,{"$f":"'[1]PR FORM'!B24","v":"حلاوة"},null,{"$f":"'[1]PR FORM'!C24","v":"كغ"},{"$f":"'[1]PR FORM'!D24*'[1]PR FORM'!E24","v":600}]
[null,10,{"$f":"'[1]PR FORM'!B25","v":"لبنة"},null,{"$f":"'[1]PR FORM'!C25","v":"كغ"},{"$f":"'[1]PR FORM'!D25*'[1]PR FORM'!E25","v":1200}]
[null,11,{"$f":"'[1]PR FORM'!B26","v":"معكرونة"},null,{"$f":"'[1]PR FORM'!C26","v":"طرد"},{"$f":"'[1]PR FORM'!D26*'[1]PR FORM'!E26","v":240}]
[null,12,{"$f":"'[1]PR FORM'!B27","v":"سمن نباتي"},null,{"$f":"'[1]PR FORM'!C27","v":"لتر"},{"$f":"'[1]PR FORM'!D27*'[1]PR FORM'!E27","v":480}]
[null,13,{"$f":"'[1]PR FORM'!B28","v":"كاسات كرتون"},null,{"$f":"'[1]PR FORM'!C28","v":"طرد"},{"$f":"'[1]PR FORM'!D28*'[1]PR FORM'!E28","v":720}]
[null,14,{"$f":"'[1]PR FORM'!B29","v":"أرز نوع جيد للطبخ"},null,{"$f":"'[1]PR FORM'!C29","v":"كيلو"},{"$f":"'[1]PR FORM'!D29*'[1]PR FORM'!E29","v":1800}]
[null,15,{"$f":"'[1]PR FORM'!B30","v":"فروج"},null,{"$f":"'[1]PR FORM'!C30","v":"كيلو"},{"$f":"'[1]PR FORM'!D30*'[1]PR FORM'!E30","v":600}]
[null,16,{"$f":"'[1]PR FORM'!B31","v":"لحم غنم"},null,{"$f":"'[1]PR FORM'!C31","v":"كيلو"},{"$f":"'[1]PR FORM'!D31*'[1]PR FORM'!E31","v":180}]
[null,17,{"$f":"'[1]PR FORM'!B32","v":"عدس أحمر "},null,{"$f":"'[1]PR FORM'!C32","v":"كيلو"},{"$f":"'[1]PR FORM'!D32*'[1]PR FORM'!E32","v":240}]
[null,18,{"$f":"'[1]PR FORM'!B33","v":"فاصولياء حب"},null,{"$f":"'[1]PR FORM'!C33","v":"كيلو"},{"$f":"'[1]PR FORM'!D33*'[1]PR FORM'!E33","v":120}]
[null,19,{"$f":"'[1]PR FORM'!B34","v":"زيت نباتي"},null,{"$f":"'[1]PR FORM'!C34","v":"لتر"},{"$f":"'[1]PR FORM'!D34*'[1]PR FORM'!E34","v":960}]
[null,20,{"$f":"'[1]PR FORM'!B35","v":"دبس بندورة"},null,{"$f":"'[1]PR FORM'!C35","v":"علبة"},{"$f":"'[1]PR FORM'!D35*'[1]PR FORM'!E35","v":960}]
[null,21,{"$f":"'[1]PR FORM'!B36","v":"جبن أبيض"},null,{"$f":"'[1]PR FORM'!C36","v":"كيلو"},{"$f":"'[1]PR FORM'!D36*'[1]PR FORM'!E36","v":600}]
[null,22,{"$f":"'[1]PR FORM'!B37","v":"بطاطا فريش"},null,{"$f":"'[1]PR FORM'!C37","v":"كيلو"},{"$f":"'[1]PR FORM'!D37*'[1]PR FORM'!E37","v":6000}]
[null,23,{"$f":"'[1]PR FORM'!B38","v":"بندورة فريش"},null,{"$f":"'[1]PR FORM'!C38","v":"كيلو"},{"$f":"'[1]PR FORM'!D38*'[1]PR FORM'!E38","v":3000}]
[null,24,{"$f":"'[1]PR FORM'!B39","v":"خيار فريش"},null,{"$f":"'[1]PR FORM'!C39","v":"كيلو"},{"$f":"'[1]PR FORM'!D39*'[1]PR FORM'!E39","v":1200}]
[null,25,{"$f":"'[1]PR FORM'!B40","v":"بصل"},null,{"$f":"'[1]PR FORM'!C40","v":"كيلو"},{"$f":"'[1]PR FORM'!D40*'[1]PR FORM'!E40","v":960}]
[null,26,{"$f":"'[1]PR FORM'!B41","v":"ثوم "},null,{"$f":"'[1]PR FORM'!C41","v":"كيلو"},{"$f":"'[1]PR FORM'!D41*'[1]PR FORM'!E41","v":120}]
[null,27,{"$f":"'[1]PR FORM'!B42","v":"باذنجان"},null,{"$f":"'[1]PR FORM'!C42","v":"كيلو"},{"$f":"'[1]PR FORM'!D42*'[1]PR FORM'!E42","v":480}]
[null,28,{"$f":"'[1]PR FORM'!B43","v":"كوسا"},null,{"$f":"'[1]PR FORM'!C43","v":"كيلو"},{"$f":"'[1]PR FORM'!D43*'[1]PR FORM'!E43","v":480}]
[null,29,{"$f":"'[1]PR FORM'!B44","v":"تفاح فريش"},null,{"$f":"'[1]PR FORM'!C44","v":"كيلو"},{"$f":"'[1]PR FORM'!D44*'[1]PR FORM'!E44","v":3600}]
[null,30,{"$f":"'[1]PR FORM'!B45","v":"برتقال"},null,{"$f":"'[1]PR FORM'!C45","v":"كيلو"},{"$f":"'[1]PR FORM'!D45*'[1]PR FORM'!E45","v":1200}]
[null,31,{"$f":"'[1]PR FORM'!B46","v":"بطيخ أحمر"},null,{"$f":"'[1]PR FORM'!C46","v":"كيلو"},{"$f":"'[1]PR FORM'!D46*'[1]PR FORM'!E46","v":2400}]
[null,null,"Total | Toplam |  المجموع"]
[]
[null," Comments/Technical specifications | Yorumlar/Teknik özellikler | التعليقات/المواصفات التقنية"]
[]
[null,null,"Total price (in letter) | Toplam fiyat (mektupla)",null,null,null,null," السعر الكلي ( كتابةً) :"]
[null,null,"Available now | Şu an müsait:",null,null,null,null," كل العناصر متوفرة:"]
[null,null,"The requested quantity is entirely available | İstenen miktar tamamen mevcuttur",null,null,null,null," الكمية المطلوبة متوفرة :"]
[null,null,"Delivery date | Teslim tarihi",null,null,null,null," تاريخ التسليم:"]
[]
[]
[null,null,"\nSupplier's signature and stamp | Tedarikçinin imzası ve kaşesi: ",null,null,null,null,"ختم وتوقيع المورد : "]